BEGIN:VCALENDAR
VERSION:2.0
PRODID:-//Anesthesiology//NONSGML Events//EN
CALSCALE:GREGORIAN
X-ORIGINAL-URL:https://anesthesiology.wustl.edu/events/
X-WR-CALDESC:Anesthesiology - Events
BEGIN:VEVENT
UID:20250812T2137Z-1755034665.0114-EO-60359-1@10.73.6.59
STATUS:CONFIRMED
DTSTAMP:20260424T021655Z
CREATED:20260409T161329Z
LAST-MODIFIED:20260413T183252Z
DTSTART;TZID=America/Chicago:20260613T090000
DTEND;TZID=America/Chicago:20260613T120000
SUMMARY: ACLS Class — June 13\, 2026
DESCRIPTION: The Department of Anesthesiology offers Advanced Cardiovascula
 r Life Support (ACLS) classes on select Saturdays in 2026. These classes ar
 e exclusive to department members and provide comprehensive training in man
 aging cardiopulmonary arrest and other cardiovascular emergencies. To view 
 additional class dates or learn more\, please visit the ACLS Class Registra
 tion website. May Registration Date: June 13\, […]
X-ALT-DESC;FMTTYPE=text/html: <p>The Department of Anesthesiology offers Ad
 vanced Cardiovascular Life Support (ACLS) classes on select Saturdays in 20
 26. These classes are <strong>exclusive to department members</strong> and 
 provide comprehensive training in managing cardiopulmonary arrest and other
  cardiovascular emergencies. To view additional class dates or learn more\,
  please visit the <a href="https://anesthesiology.wustl.edu/acls-class-regi
 stration/">ACLS Class Registration website</a>.</p><hr /><h4 style="text-al
 ign: left\;">May Registration</h4><p><strong>Date:</strong> June 13\, 2026<
 /p><p><strong>Time:</strong> 9:00 a.m. – 12:00 p.m.</p><p><strong>Location:
 </strong> 3rd Floor\, Peters Conference Room</p><p><em>Please note: There i
 s a minimum of 6 students and a maximum of 8 students per class.</em></p><p
 >[formidable id="195"]</p>
CATEGORIES:ACLS,Education
ORGANIZER;CN="Admin":MAILTO:wordpress@wustl.edu
URL;VALUE=URI:https://anesthesiology.wustl.edu/events/event/acls-class-june
 -13-2026/
END:VEVENT
BEGIN:VTIMEZONE
TZID:America/Chicago
BEGIN:DAYLIGHT
TZOFFSETFROM:-0600
TZOFFSETTO:-0500
DTSTART:20260308T080000
TZNAME:CDT
END:DAYLIGHT
END:VTIMEZONE
END:VCALENDAR
