BEGIN:VCALENDAR
VERSION:2.0
PRODID:-//Anesthesiology//NONSGML Events//EN
CALSCALE:GREGORIAN
X-ORIGINAL-URL:https://anesthesiology.wustl.edu/events/
X-WR-CALDESC:Anesthesiology - Events
BEGIN:VEVENT
UID:20230712T0011Z-1689120669.705-EO-40396-1@172.23.128.18
STATUS:CONFIRMED
DTSTAMP:20260423T213353Z
CREATED:20230711T145754Z
LAST-MODIFIED:20230726T150120Z
DTSTART;TZID=America/Chicago:20230810T140000
DTEND;TZID=America/Chicago:20230810T170000
SUMMARY: 2023 ASSURE Fellows Poster Presentation
DESCRIPTION: The ASSURE fellows have spent the summer working on research p
 rojects\, sharpening their skills in reading and discussing scientific lite
 rature\, meeting various faculty at our institution and several guest speak
 ers to provide insights into careers in science and medicine\, and learning
  about the processes for applying to medical school and graduate school. Jo
 in us on […]
X-ALT-DESC;FMTTYPE=text/html: <p class="is-style-default">The ASSURE fellow
 s have spent the summer working on research projects\, sharpening their ski
 lls in reading and discussing scientific literature\, meeting various facul
 ty at our institution and several guest speakers to provide insights into c
 areers in science and medicine\, and learning about the processes for apply
 ing to medical school and graduate school.</p><p class="is-style-default">J
 oin us on Thursday\, August 10\, from 2-5 p.m. in the EPNEC lobby\, where s
 tudents will present the work they did this summer.</p>
CATEGORIES:Featured Events,Research
ORGANIZER;CN="Admin":MAILTO:wordpress@wustl.edu
URL;VALUE=URI:https://anesthesiology.wustl.edu/events/event/assure-fellows-
 poster-presentation-2/
END:VEVENT
BEGIN:VTIMEZONE
TZID:America/Chicago
BEGIN:DAYLIGHT
TZOFFSETFROM:-0600
TZOFFSETTO:-0500
DTSTART:20230312T080000
TZNAME:CDT
END:DAYLIGHT
END:VTIMEZONE
END:VCALENDAR
