BEGIN:VCALENDAR
VERSION:2.0
PRODID:-//Anesthesiology//NONSGML Events//EN
CALSCALE:GREGORIAN
X-ORIGINAL-URL:https://anesthesiology.wustl.edu/events/
X-WR-CALDESC:Anesthesiology - Events
BEGIN:VEVENT
UID:20260325T2037Z-1774471026.8825-EO-63948-1@10.73.6.59
STATUS:CONFIRMED
DTSTAMP:20260423T171217Z
CREATED:20260325T202252Z
LAST-MODIFIED:20260325T204315Z
DTSTART;TZID=America/Chicago:20260415T170000
DTEND;TZID=America/Chicago:20260415T190000
SUMMARY: CA1 Recruitment Event
DESCRIPTION: The CA1 Resident Class is invited to join us on Wednesday\, Ap
 ril 15 at Puttshack in the City Foundry for mingling and mini-golf! Enjoy d
 elicious bites\, tech-infused mini golf\, and an opportunity to chat with f
 ellow residents and faculty. Food will be served upon arrival with plenty o
 f time for conversation before getting competitive on […]
X-ALT-DESC;FMTTYPE=text/html: <p>The CA1 Resident Class is invited to join 
 us on Wednesday\, April 15 at Puttshack in the City Foundry for mingling an
 d mini-golf!</p><p style="font-weight: 400\;">Enjoy delicious bites\, tech-
 infused mini golf\, and an opportunity to chat with fellow residents and fa
 culty. Food will be served upon arrival with plenty of time for conversatio
 n before getting competitive on the 9-hole golf course.</p><div class="call
 out"><p style="font-weight: 400\;"><strong>Kindly reply by Friday\, April 1
 0 at 12 p.m.</strong></p></div><hr /><p>[formidable id="193"]</p>
LOCATION:Puttshack at the Foundry
GEO:38.633603;-90.239790
ORGANIZER;CN="Patrick":MAILTO:pyursik@wustl.edu
URL;VALUE=URI:https://anesthesiology.wustl.edu/events/event/ca1-recruitment
 -event/
ATTACH;FMTTYPE=image/jpeg:https://anesthesiology.wustl.edu/app/uploads/2026/03/2.jpg
END:VEVENT
BEGIN:VTIMEZONE
TZID:America/Chicago
BEGIN:DAYLIGHT
TZOFFSETFROM:-0600
TZOFFSETTO:-0500
DTSTART:20260308T080000
TZNAME:CDT
END:DAYLIGHT
END:VTIMEZONE
END:VCALENDAR
