BEGIN:VCALENDAR
VERSION:2.0
PRODID:-//Anesthesiology//NONSGML Events//EN
CALSCALE:GREGORIAN
X-ORIGINAL-URL:https://anesthesiology.wustl.edu/events/
X-WR-CALDESC:Anesthesiology - Events
BEGIN:VEVENT
UID:20220420T0749Z-1650440947.1195-EO-25091-1@172.23.128.19
STATUS:CONFIRMED
DTSTAMP:20260424T213215Z
CREATED:20220419T190119Z
LAST-MODIFIED:20220419T190313Z
DTSTART;VALUE=DATE:20220420
DTEND;VALUE=DATE:20220421
RDATE;VALUE=DATE:20220420,20220427,20220512,20220526
SUMMARY: Community Discussions: WUSM’s Commitment to Anti-Racism Statement
DESCRIPTION: Community Discussions: WUSM’s Commitment to Anti-Racism Statem
 ent These virtual sessions will be offered 2 times/month for the remainder 
 of 2022 – visit our events calendar to register for dates that best fit you
 r schedule. In early 2021\, the Executive Faculty of Washington University 
 School of Medicine approved a “WUSM Leadership Commitment to Anti-Racism\,”
  naming racism as a public […]
X-ALT-DESC;FMTTYPE=text/html: <p><strong><a href="https://diversity.med.wus
 tl.edu/events/calendar/community-discussions-wusms-commitment-to-anti-racis
 m-statement-3/">Community Discussions: WUSM’s Commitment to Anti-Racism Sta
 tement</a></strong></p><p><strong>These virtual sessions will be offered 2 
 times/month for the remainder of 2022 – visit our <a href="https://diversit
 y.med.wustl.edu/events/calendar/">events calendar</a> to register for dates
  that best fit your schedule. </strong>In early 2021\, the Executive Facult
 y of Washington University School of Medicine approved a “WUSM Leadership C
 ommitment to Anti-Racism\,” naming racism as a public health crisis and com
 mitting to address racism within our institution\, policies\, and education
 al frameworks. Our office is hosting one hour <strong><em>community discuss
 ions for WUSM community members to learn more and talk about the statement\
 , what it means to them and how you can be involved in this important trans
 formation initiative.</em></strong> These community discussions will be hos
 ted on an ongoing basis\, and are also available by department request.</p>
 <p> </p><p>**Upcoming Dates for April and May **  (click on the date to reg
 ister for that session):</p><p>Wednesday\, <a href="https://diversity.med.w
 ustl.edu/events/calendar/community-discussions-wusms-commitment-to-anti-rac
 ism-statement-3/">4/20 – 9a – 10a</a></p><p>Wednesday\, <a href="https://di
 versity.med.wustl.edu/events/calendar/community-discussions-2-wusms-commitm
 ent-to-anti-racism-statement/">4/27- 11a-12p</a></p><p>Thursday\, <a href="
 https://diversity.med.wustl.edu/events/calendar/community-discussions-3-wus
 ms-commitment-to-anti-racism-statement/">5/12 – 4p-5p</a></p><p>Thursday\, 
 <a href="https://diversity.med.wustl.edu/events/calendar/community-discussi
 ons-4-wusms-commitment-to-anti-racism-statement/">5/26 – 1p-2p</a></p><p><s
 trong> </strong></p>
CATEGORIES:Climate &amp\; Culture,School of Medicine
ORGANIZER;CN="Admin":MAILTO:wordpress@wustl.edu
URL;VALUE=URI:https://anesthesiology.wustl.edu/events/event/community-discu
 ssions-wusms-commitment-to-anti-racism-statement/
END:VEVENT
BEGIN:VTIMEZONE
TZID:America/Chicago
BEGIN:DAYLIGHT
TZOFFSETFROM:-0600
TZOFFSETTO:-0500
DTSTART:20220313T080000
TZNAME:CDT
END:DAYLIGHT
END:VTIMEZONE
END:VCALENDAR
