BEGIN:VCALENDAR
VERSION:2.0
PRODID:-//Anesthesiology//NONSGML Events//EN
CALSCALE:GREGORIAN
X-ORIGINAL-URL:https://anesthesiology.wustl.edu/events/
X-WR-CALDESC:Anesthesiology - Events
BEGIN:VEVENT
UID:20230527T0602Z-1685167340.2265-EO-39737-1@172.23.128.18
STATUS:CONFIRMED
DTSTAMP:20260420T111827Z
CREATED:20230526T164158Z
LAST-MODIFIED:20230526T164158Z
DTSTART;TZID=America/Chicago:20230627T120000
DTEND;TZID=America/Chicago:20230627T130000
SUMMARY: Diversity Training 2.0 – Understanding (virtual)
DESCRIPTION: Session 2.0 — Understanding Facilitators provide experiential 
 activities that align with materials from the American Association of Medic
 al Colleges (AAMC) to demonstrate how unconscious bias is something that ev
 ery individual holds. The goal of this interactive training is to highlight
  the concept of unconscious bias\, how it influences individuals on a daily
  basis\, and provides tangible […]
X-ALT-DESC;FMTTYPE=text/html: <div class="page-content"><p><strong>Session 
 2.0 — Understanding</strong><br />Facilitators provide experiential activit
 ies that align with materials from the American Association of Medical Coll
 eges (AAMC) to demonstrate how unconscious bias is something that every ind
 ividual holds. The goal of this interactive training is to highlight the co
 ncept of unconscious bias\, how it influences individuals on a daily basis\
 , and provides tangible tools for mitigating unconscious bias.</p></div><p>
  </p><p style="text-align: center\;"><a class="button-primary" href="https:
 //wustl.sabacloud.com/Saba/Web_spf/SPCTNT456Site/common/registercatalog/vir
 tc-0000068686" target="_blank" rel="noopener">Register for Session 2.0 (vir
 tual)</a></p><p> </p><p>If you have any questions about the dates\, times\,
  and course please contact <a class="ms-outlook-linkify" href="mailto:oryje
 ramia@wustl.edu">Jeramia Ory</a>.</p><p><strong>WHICH COURSES HAVE YOU COMP
 LETED?</strong>  To determine which course(s) you have completed\, follow t
 he steps below:</p><ul><li>Log into <a href="https://sites.wustl.edu/learna
 twork/">Learn@Work</a> with your WUSTL email and password.</li><li>On the h
 omepage\, click on the 3-line icon in the top\, left hand corner.</li><li>C
 lick on "Me."</li><li>To the right of the sidebar\, you will see the Learni
 ng & Certifications box. Click on completed and a list of your completed le
 arning and certifications will be listed below.</li></ul>
CATEGORIES:Inclusive Excellence Training
ORGANIZER;CN="Admin":MAILTO:wordpress@wustl.edu
URL;VALUE=URI:https://anesthesiology.wustl.edu/events/event/diversity-train
 ing-2-0-understanding-virtual/
END:VEVENT
BEGIN:VTIMEZONE
TZID:America/Chicago
BEGIN:DAYLIGHT
TZOFFSETFROM:-0600
TZOFFSETTO:-0500
DTSTART:20230312T080000
TZNAME:CDT
END:DAYLIGHT
END:VTIMEZONE
END:VCALENDAR
