BEGIN:VCALENDAR
VERSION:2.0
PRODID:-//Anesthesiology//NONSGML Events//EN
CALSCALE:GREGORIAN
X-ORIGINAL-URL:https://anesthesiology.wustl.edu/events/
X-WR-CALDESC:Anesthesiology - Events
BEGIN:VEVENT
UID:20240930T2247Z-1727736423.1628-EO-46842-1@10.24.106.144
STATUS:CONFIRMED
DTSTAMP:20260420T155649Z
CREATED:20240918T200910Z
LAST-MODIFIED:20241024T174119Z
DTSTART;TZID=America/Chicago:20241103T140000
DTEND;TZID=America/Chicago:20241103T170000
SUMMARY: Fall Fun Day 2024
DESCRIPTION: Join your WashU anesthesiology colleagues at Tower Grove Park 
 on Sunday\, November 3\, from 2 to 5 p.m. for an afternoon of family-friend
 ly fall fun! There will be a bonfire with s’mores\, hot cocoa\, yard games\
 , food from Hacienda\, mini pumpkin decorating\, music\, and general fall b
 eauty. Tower Grove Park — Stone Shelter Pavilion (map) […]
X-ALT-DESC;FMTTYPE=text/html: <p>Join your WashU anesthesiology colleagues 
 at Tower Grove Park on Sunday\, November 3\, from 2 to 5 p.m. for an aftern
 oon of family-friendly fall fun! There will be a bonfire with s'mores\, hot
  cocoa\, yard games\, food from Hacienda\, mini pumpkin decorating\, music\
 , and general fall beauty.</p><p class="p1"><strong>Tower Grove Park — </st
 rong><span class="OYPEnA font-feature-liga-off font-feature-clig-off font-f
 eature-calt-off text-decoration-none text-strikethrough-none"><strong>Stone
  Shelter Pavilion</strong> (<a href="https://www.google.com/maps?gs_lcrp=Eg
 ZjaHJvbWUqBggAEEUYOzIGCAAQRRg7MgcIARAhGKABMgcIAhAhGKABMgcIAxAhGKABMgcIBBAhG
 KABMgcIBRAhGKAB0gEHMzk3ajBqN6gCALACAA&um=1&ie=UTF-8&fb=1&gl=us&sa=X&geocode
 =KW-t3AirtdiHMa8uUY_SOd0Y&daddr=4490+Northwest+Dr\,+St.+Louis\,+MO+63110" t
 arget="_blank" rel="noopener">map</a>)<br /></span>4490 Northwest Dr<br />S
 t. Louis\, MO 63110</p><p>While we hope everyone can join in the fun for th
 e entire afternoon\, we understand that might not be possible for everyone.
  But that’s okay — feel free to come and go as your schedules permit!</p><p
 ><em>Please bring a lawn chair or blanket!</em></p><h3>RSVP</h3><p>[formida
 ble id=146]</p>
CATEGORIES:Featured Events,Health &amp\; Wellness
ORGANIZER;CN="Admin":MAILTO:wordpress@wustl.edu
URL;VALUE=URI:https://anesthesiology.wustl.edu/events/event/fall-fun-day-20
 24/
ATTACH;FMTTYPE=image/png:https://anesthesiology.wustl.edu/app/uploads/2024/09/Department-Bonfire-Banner-2.png
END:VEVENT
BEGIN:VTIMEZONE
TZID:America/Chicago
BEGIN:DAYLIGHT
TZOFFSETFROM:-0600
TZOFFSETTO:-0500
DTSTART:20240310T080000
TZNAME:CDT
END:DAYLIGHT
BEGIN:STANDARD
TZOFFSETFROM:-0500
TZOFFSETTO:-0600
DTSTART:20241103T070000
TZNAME:CST
END:STANDARD
END:VTIMEZONE
END:VCALENDAR
