BEGIN:VCALENDAR
VERSION:2.0
PRODID:-//Anesthesiology//NONSGML Events//EN
CALSCALE:GREGORIAN
X-ORIGINAL-URL:https://anesthesiology.wustl.edu/events/
X-WR-CALDESC:Anesthesiology - Events
BEGIN:VEVENT
UID:20220114T0712Z-1642144378.938-EO-20570-1@172.23.128.19
STATUS:CONFIRMED
DTSTAMP:20260422T155519Z
CREATED:20220113T195701Z
LAST-MODIFIED:20220210T153211Z
DTSTART;TZID=America/Chicago:20220212T100000
DTEND;TZID=America/Chicago:20220212T120000
SUMMARY: February Wellness Walk
DESCRIPTION: All are welcome at our monthly department Wellness Walks! Come
  get some fresh air\, meet new colleagues\, and check out a new part of St.
  Louis!
X-ALT-DESC;FMTTYPE=text/html: <p><span dir="ltr" role="presentation">Come w
 alk around one of the most historic and unique neighborhoods in St. Louis: 
 The Hill! Great coffee\, markets\, and interesting architecture abound. It’
 s easy to make conversation with so many interesting things to look at. End
  your walk at one of the many Italian markets\, or grab a gelato if you are
 n’t already frozen. This would be a great opportunity to pick up some Valen
 tine’s Day treats!</span></p><p><span dir="ltr" role="presentation">All are
  welcome at th</span><span dir="ltr" role="presentation">es</span><span dir
 ="ltr" role="presentation">e</span> <span dir="ltr" role="presentation">cas
 ual</span> <span dir="ltr" role="presentation">events—f</span><span dir="lt
 r" role="presentation">amilies</span><span dir="ltr" role="presentation">\,
  dogs\, kids are all welcome</span> <span dir="ltr" role="presentation">to 
 join in the fun!</span></p><div class="callout"><p><strong>AGENDA</strong><
 /p><p>Meet at 10 am at Shaw Coffee. Stop in before we start for a coffee or
  hot drink!</p><p>We will then walk down Marconi to Piazza Imo. We will pau
 se there to sample some Italian cookies from Vitale’s Bakery\, and check ou
 t the Piazza and St. Ambrose Church.</p><p>We will then head down Wilson an
 d stop at Missouri Baking company to try some of their famous Gooey Butter 
 Cake and chocolate drops.</p><p>We will then keep heading down Wilson to Be
 rra Park. Here we will sample some Hot Salami from Gioias Deli.</p><p>We wi
 ll then head back up Daggett towards DiGriggorios Market. Here you can stop
  in for any Italian Goodies you need and to sample Volpi Sausage outside.</
 p><p>Finally\, we will head down to Milos outdoor Bocce courts where you ca
 n grab an early lunch or drink on the patio and play Bocce!</p></div><h4>Ad
 ditional Links</h4><ul><li><a href="https://www.piazzaimo.com/" target="_bl
 ank" rel="noopener"><span dir="ltr" role="presentation">Piazza Imo</span></
 a></li><li><span dir="ltr" role="presentation"><a href="https://explorestlo
 uis.com/things-to-do/neighborhoods/the-hill/" target="_blank" rel="noopener
 ">Explore St. Louis: The Hill</a> </span></li><li><a href="http://gelatodir
 iso.com/" target="_blank" rel="noopener">Gelato Di Riso | St. Louis Cafe</a
 ></li><li><a href="https://www.digregoriofoods.com/" target="_blank" rel="n
 oopener">DiGregorio's Italian Market</a></li></ul>
CATEGORIES:Health &amp\; Wellness
ORGANIZER;CN="Kelsey":MAILTO:karends@wustl.edu
URL;VALUE=URI:https://anesthesiology.wustl.edu/events/event/february-wellne
 ss-walk/
ATTACH;FMTTYPE=image/jpeg:https://anesthesiology.wustl.edu/app/uploads/2022/01/Wellness-Walk_760x400.jpg
END:VEVENT
BEGIN:VTIMEZONE
TZID:America/Chicago
BEGIN:STANDARD
TZOFFSETFROM:-0500
TZOFFSETTO:-0600
DTSTART:20211107T070000
TZNAME:CST
END:STANDARD
END:VTIMEZONE
END:VCALENDAR
