BEGIN:VCALENDAR
VERSION:2.0
PRODID:-//Anesthesiology//NONSGML Events//EN
CALSCALE:GREGORIAN
X-ORIGINAL-URL:https://anesthesiology.wustl.edu/events/
X-WR-CALDESC:Anesthesiology - Events
BEGIN:VEVENT
UID:20220926T2107Z-1664226477.1042-EO-32806-1@172.23.128.19
STATUS:CONFIRMED
DTSTAMP:20260421T005748Z
CREATED:20220926T194113Z
LAST-MODIFIED:20221006T214819Z
DTSTART;TZID=America/Chicago:20230103T170000
DTEND;TZID=America/Chicago:20230103T180000
SUMMARY: Skills Workshop #3: Getting and Using Feedback
DESCRIPTION: Our department is offering four Professional Development Core 
 Workshops\, one per month\, beginning in November 2022 through February 202
 3. Each month there will be a 1-hour workshop on a development topic\, a 1-
 hour workshop on a fundamental self-awareness or skill topic\, and an optio
 nal Calm-based short course learning program. Getting and Using Feedback Sk
 ills Workshop Having […]
X-ALT-DESC;FMTTYPE=text/html: <p>Our department is offering <strong>four Pr
 ofessional Development Core Workshops</strong>\, one per month\, beginning 
 in November 2022 through February 2023. Each month there will be a 1-hour w
 orkshop on a development topic\, a 1-hour workshop on a fundamental self-aw
 areness or skill topic\, and an optional Calm-based short course learning p
 rogram.</p><p><strong>Getting and Using Feedback Skills Workshop<br /></str
 ong><em>Having feedback training expertise within the department is a great
  opportunity to showcase some of our educators in support of our staff and 
 faculty even more broadly. Having a learning approach to professional devel
 opment is a great start\, what we need to learn is where we are effective a
 nd where our opportunities for growth exist. This will be a specific applic
 ation of our Crucial Conversations<sup>®</sup> practice\, and a reminder of
  the Intentional Change Theory and application – making use of the feedback
 .</em></p><p><a class="button-primary" href="https://anesthesiology.wustl.e
 du/our-culture/professional-development">Learn more and RSVP today</a></p><
 p> </p>
CATEGORIES:Professional Development
ORGANIZER;CN="Admin":MAILTO:wordpress@wustl.edu
URL;VALUE=URI:https://anesthesiology.wustl.edu/events/event/getting-and-usi
 ng-feedback-skills-workshop-skills-workshop-3/
END:VEVENT
BEGIN:VTIMEZONE
TZID:America/Chicago
BEGIN:STANDARD
TZOFFSETFROM:-0500
TZOFFSETTO:-0600
DTSTART:20221106T070000
TZNAME:CST
END:STANDARD
END:VTIMEZONE
END:VCALENDAR
