BEGIN:VCALENDAR
VERSION:2.0
PRODID:-//Anesthesiology//NONSGML Events//EN
CALSCALE:GREGORIAN
X-ORIGINAL-URL:https://anesthesiology.wustl.edu/events/
X-WR-CALDESC:Anesthesiology - Events
BEGIN:VEVENT
UID:20211231T0402Z-1640923367.8751-EO-19772-1@172.23.128.19
STATUS:CONFIRMED
DTSTAMP:20260424T121222Z
CREATED:20211229T161457Z
LAST-MODIFIED:20211229T161725Z
DTSTART;TZID=America/Chicago:20220105T064500
DTEND;TZID=America/Chicago:20220105T074500
SUMMARY: Grand Rounds: M&M Conference
DESCRIPTION: Dr. Zachary Jergensen and Dr. David Rasche Moderator: Dr. Step
 hen Gregory For Zoom link\, please contact Maureen Arends (arendsm@wustl.ed
 u)
X-ALT-DESC;FMTTYPE=text/html: <p>Dr. Zachary Jergensen and Dr. David Rasche
 <br />Moderator: Dr. Stephen Gregory</p><p>For Zoom link\, please contact M
 aureen Arends (arendsm@wustl.edu)</p>
CATEGORIES:Grand Rounds
ORGANIZER;CN="Admin":MAILTO:wordpress@wustl.edu
URL;VALUE=URI:https://anesthesiology.wustl.edu/events/event/grand-rounds-10
 /
END:VEVENT
BEGIN:VTIMEZONE
TZID:America/Chicago
BEGIN:STANDARD
TZOFFSETFROM:-0500
TZOFFSETTO:-0600
DTSTART:20211107T070000
TZNAME:CST
END:STANDARD
END:VTIMEZONE
END:VCALENDAR
