BEGIN:VCALENDAR
VERSION:2.0
PRODID:-//Anesthesiology//NONSGML Events//EN
CALSCALE:GREGORIAN
X-ORIGINAL-URL:https://anesthesiology.wustl.edu/events/
X-WR-CALDESC:Anesthesiology - Events
BEGIN:VEVENT
UID:20200828T0658Z-1598597907.4768-EO-6596-1@172.23.128.19
STATUS:CONFIRMED
DTSTAMP:20260424T114423Z
CREATED:20200811T204550Z
LAST-MODIFIED:20200811T204550Z
DTSTART;TZID=America/Chicago:20200520T064500
DTEND;TZID=America/Chicago:20200520T074500
SUMMARY: Grand Rounds
DESCRIPTION: Anesthesiology Grand Rounds Presented by: Regina Nuzzo\, PhD G
 allaudet University
X-ALT-DESC;FMTTYPE=text/html: <h4 style="text-align: center\;">Anesthesiolo
 gy Grand Rounds</h4><p style="text-align: center\;">Presented by: Regina Nu
 zzo\, PhD</p><p style="text-align: center\;">Gallaudet University</p>
CATEGORIES:All,Grand Rounds
LOCATION:Wohl Auditorium\, Wohl Hospital\, Basement
GEO:0.000000;0.000000
ORGANIZER;CN="Brian":MAILTO:bmarston@wustl.edu
URL;VALUE=URI:https://anesthesiology.wustl.edu/events/event/grand-rounds-3/
END:VEVENT
BEGIN:VTIMEZONE
TZID:America/Chicago
BEGIN:DAYLIGHT
TZOFFSETFROM:-0600
TZOFFSETTO:-0500
DTSTART:20200308T080000
TZNAME:CDT
END:DAYLIGHT
END:VTIMEZONE
END:VCALENDAR
