BEGIN:VCALENDAR
VERSION:2.0
PRODID:-//Anesthesiology//NONSGML Events//EN
CALSCALE:GREGORIAN
X-ORIGINAL-URL:https://anesthesiology.wustl.edu/events/
X-WR-CALDESC:Anesthesiology - Events
BEGIN:VEVENT
UID:20200828T0658Z-1598597907.3476-EO-6606-1@172.23.128.19
STATUS:CONFIRMED
DTSTAMP:20260424T160007Z
CREATED:20200811T204551Z
LAST-MODIFIED:20200811T204551Z
DTSTART;TZID=America/Chicago:20200219T064500
DTEND;TZID=America/Chicago:20200219T074500
SUMMARY: Grand Rounds
DESCRIPTION: Anesthesiology Grand Rounds Presented by: Troy Wildes\, MD and
 Â Stephen Gregory\, MD Department of Anesthesiology Washington University S
 chool of Medicine âPerioperative Updateâ
X-ALT-DESC;FMTTYPE=text/html: <h4 style="text-align: center\;">Anesthesiolo
 gy Grand Rounds</h4><p style="text-align: center\;">Presented by: Troy Wild
 es\, MD andÂ Stephen Gregory\, MD</p><p style="text-align: center\;">Depart
 ment of Anesthesiology</p><p style="text-align: center\;">Washington Univer
 sity School of Medicine</p><p style="text-align: center\;">âPerioperative
  Updateâ</p>
CATEGORIES:All,Grand Rounds
LOCATION:Wohl Auditorium\, Wohl Hospital\, Basement
GEO:0.000000;0.000000
ORGANIZER;CN="Brian":MAILTO:bmarston@wustl.edu
URL;VALUE=URI:https://anesthesiology.wustl.edu/events/event/grand-rounds-7/
END:VEVENT
BEGIN:VTIMEZONE
TZID:America/Chicago
BEGIN:STANDARD
TZOFFSETFROM:-0500
TZOFFSETTO:-0600
DTSTART:20191103T070000
TZNAME:CST
END:STANDARD
END:VTIMEZONE
END:VCALENDAR
