BEGIN:VCALENDAR
VERSION:2.0
PRODID:-//Anesthesiology//NONSGML Events//EN
CALSCALE:GREGORIAN
X-ORIGINAL-URL:https://anesthesiology.wustl.edu/events/
X-WR-CALDESC:Anesthesiology - Events
BEGIN:VEVENT
UID:20220808T2149Z-1659995390.8143-EO-30181-1@172.23.128.19
STATUS:CONFIRMED
DTSTAMP:20260423T110922Z
CREATED:20220808T194340Z
LAST-MODIFIED:20220808T194659Z
DTSTART;TZID=America/Chicago:20221019T064500
DTEND;TZID=America/Chicago:20221019T074500
SUMMARY: Grand Rounds: Professional Liability Issues
DESCRIPTION: “WU Risk Management/BJC Legal: Professional Liability Issues” 
 Featured Speakers Dawn Pesti Director\, Professional Liability Program Wash
 ington University School of Medicine Alexander Bean Director Professional L
 iability Program Barnes-Jewish Hospital For the Zoom link\, please contact 
 Maureen Arends (arendsm@wustl.edu).
X-ALT-DESC;FMTTYPE=text/html: <p class="lead" style="text-align: left\;">"W
 U Risk Management/BJC Legal: Professional Liability Issues"</p><h4 style="t
 ext-align: left\;">Featured Speakers</h4><p style="text-align: left\;"><str
 ong>Dawn Pesti</strong><br />Director\, Professional Liability Program<br /
 >Washington University School of Medicine</p><p style="text-align: left\;">
 <strong>Alexander Bean</strong><br />Director Professional Liability Progra
 m<br />Barnes-Jewish Hospital</p><hr /><p class="disclaimer" style="text-al
 ign: left\;">For the Zoom link\, please contact Maureen Arends (<a href="ma
 ilto:arendsm@wustl.edu">arendsm@wustl.edu</a>).</p>
CATEGORIES:Grand Rounds
ORGANIZER;CN="Admin":MAILTO:wordpress@wustl.edu
URL;VALUE=URI:https://anesthesiology.wustl.edu/events/event/grand-rounds-pr
 ofessional-liability-issues/
END:VEVENT
BEGIN:VTIMEZONE
TZID:America/Chicago
BEGIN:DAYLIGHT
TZOFFSETFROM:-0600
TZOFFSETTO:-0500
DTSTART:20220313T080000
TZNAME:CDT
END:DAYLIGHT
END:VTIMEZONE
END:VCALENDAR
