BEGIN:VCALENDAR
VERSION:2.0
PRODID:-//Anesthesiology//NONSGML Events//EN
CALSCALE:GREGORIAN
X-ORIGINAL-URL:https://anesthesiology.wustl.edu/events/
X-WR-CALDESC:Anesthesiology - Events
BEGIN:VEVENT
UID:20230804T2341Z-1691192482.301-EO-40835-1@172.23.128.18
STATUS:CONFIRMED
DTSTAMP:20260424T121056Z
CREATED:20230804T145912Z
LAST-MODIFIED:20230830T182850Z
DTSTART;TZID=America/Chicago:20231011T064500
DTEND;TZID=America/Chicago:20231011T074500
SUMMARY: Grand Rounds: “Impact of Perinatal Pharmacology on Neurodevelopmen
 tal Health:  Role of Oxytocin”
DESCRIPTION: “Impact of Perinatal Pharmacology on Neurodevelopmental Health
 : Role of Oxytocin” Featured Speaker Arvind Palanisamy\, MBBS\, MD\, FRCA A
 ssociate Professor Chief\, Division of Obstetric Anesthesiology Department 
 of Anesthesiology Washington University School of Medicine In-person (Wohl 
 Auditorium) and virtual. For the Zoom link\, please contact Maureen Arends 
 (arendsm@wustl.edu).
X-ALT-DESC;FMTTYPE=text/html: <p class="lead" style="text-align: left\;">"I
 mpact of Perinatal Pharmacology on Neurodevelopmental Health: Role of Oxyto
 cin"</p><h4 style="text-align: left\;">Featured Speaker</h4><p style="text-
 align: left\;"><strong>Arvind Palanisamy\, MBBS\, MD\, FRCA<br /></strong>A
 ssociate Professor<br />Chief\, Division of Obstetric Anesthesiology<br />D
 epartment of Anesthesiology<br />Washington University School of Medicine</
 p><hr /><p class="disclaimer" style="text-align: left\;">In-person (Wohl Au
 ditorium) and virtual. For the Zoom link\, please contact Maureen Arends (<
 a href="mailto:arendsm@wustl.edu">arendsm@wustl.edu</a>).</p>
CATEGORIES:Grand Rounds
ORGANIZER;CN="Admin":MAILTO:wordpress@wustl.edu
URL;VALUE=URI:https://anesthesiology.wustl.edu/events/event/grand-rounds-to
 pic-tba-2/
END:VEVENT
BEGIN:VTIMEZONE
TZID:America/Chicago
BEGIN:DAYLIGHT
TZOFFSETFROM:-0600
TZOFFSETTO:-0500
DTSTART:20230312T080000
TZNAME:CDT
END:DAYLIGHT
END:VTIMEZONE
END:VCALENDAR
