BEGIN:VCALENDAR
VERSION:2.0
PRODID:-//Anesthesiology//NONSGML Events//EN
CALSCALE:GREGORIAN
X-ORIGINAL-URL:https://anesthesiology.wustl.edu/events/
X-WR-CALDESC:Anesthesiology - Events
BEGIN:VEVENT
UID:20200828T0658Z-1598597907.4267-EO-6599-1@172.23.128.19
STATUS:CONFIRMED
DTSTAMP:20260422T100218Z
CREATED:20200811T204550Z
LAST-MODIFIED:20200811T204550Z
DTSTART;TZID=America/Chicago:20200415T064500
DTEND;TZID=America/Chicago:20200415T074500
SUMMARY: Grand Rounds (Virtual)
DESCRIPTION: EVENT UPDATE In response to the ongoing presence and impact of
  COVID-19 across the US\, this event will now be a Zoom webinar. Anesthesio
 logy Grand Rounds âPragmatic Studies in Good Times and Bad: REGAIN and th
 e intubateCOVID Us provider registry.” Presented by Dr. Mark Neuman\, Dr. M
 eghan Lane-Fall\, and Ms. Lakisha Gaskins University of Pennsylvania […]
X-ALT-DESC;FMTTYPE=text/html: <div class="callout"><p style="text-align: le
 ft\;"><span><strong>EVENT UPDATE</strong><br />In response to the ongoing p
 resence and impact of COVID-19 across the US\, this event will now be a Zoo
 m webinar.<br /></span></p></div><h4 style="text-align: left\;">Anesthesiol
 ogy Grand Rounds</h4><p style="text-align: left\;">âPragmatic Studies in 
 Good Times and Bad: REGAIN and the intubateCOVID Us provider registry."</p>
 <p style="text-align: left\;"><em>Presented by</em><br /><strong>Dr. Mark N
 euman</strong>\, <strong>Dr. Meghan Lane-Fall</strong>\, and <strong>Ms. La
 kisha Gaskins</strong><br />University of Pennsylvania<br />Penn Center for
  Perioperative Outcomes Research & Transformation (CPORT)</p>
CATEGORIES:All,Grand Rounds
LOCATION:Zoom Webinar
GEO:0.000000;0.000000
ORGANIZER;CN="Brian":MAILTO:bmarston@wustl.edu
URL;VALUE=URI:https://anesthesiology.wustl.edu/events/event/grand-rounds-vi
 rtual-2/
END:VEVENT
BEGIN:VTIMEZONE
TZID:America/Chicago
BEGIN:DAYLIGHT
TZOFFSETFROM:-0600
TZOFFSETTO:-0500
DTSTART:20200308T080000
TZNAME:CDT
END:DAYLIGHT
END:VTIMEZONE
END:VCALENDAR
