BEGIN:VCALENDAR
VERSION:2.0
PRODID:-//Anesthesiology//NONSGML Events//EN
CALSCALE:GREGORIAN
X-ORIGINAL-URL:https://anesthesiology.wustl.edu/events/
X-WR-CALDESC:Anesthesiology - Events
BEGIN:VEVENT
UID:20200828T0658Z-1598597907.4388-EO-6598-1@172.23.128.19
STATUS:CONFIRMED
DTSTAMP:20260420T223006Z
CREATED:20200811T204550Z
LAST-MODIFIED:20200811T204550Z
DTSTART;TZID=America/Chicago:20200422T064500
DTEND;TZID=America/Chicago:20200422T074500
SUMMARY: Grand Rounds (Virtual)
DESCRIPTION: EVENT UPDATE In response to the ongoing presence and impact of
  COVID-19 across the US\, this event will now be a Zoom webinar. Anesthesio
 logy Grand Rounds “Examining Health Workersâ Perspectives on Organization
 al Expectations in Disastersâ Presented by Daniel Barnett\, MD\, MPH Asso
 ciate Professor Dept of Environmental Health & Engineering Johns Hopkins Bl
 oomberg School of Public […]
X-ALT-DESC;FMTTYPE=text/html: <div class="callout"><p style="text-align: le
 ft\;"><span><strong>EVENT UPDATE</strong><br />In response to the ongoing p
 resence and impact of COVID-19 across the US\, this event will now be a Zoo
 m webinar.<br /></span></p></div><h4 style="text-align: left\;">Anesthesiol
 ogy Grand Rounds</h4><p style="text-align: left\;">"Examining Health Worker
 sâ Perspectives on Organizational Expectations in Disastersâ</p><p styl
 e="text-align: left\;"><em>Presented by</em><br /><strong>Daniel Barnett\, 
 MD\, MPH</strong><br />Associate Professor<br />Dept of Environmental Healt
 h & Engineering<br />Johns Hopkins Bloomberg School of Public Health\, Balt
 imore\, MD</p>
CATEGORIES:All,Grand Rounds
LOCATION:Zoom Webinar
GEO:0.000000;0.000000
ORGANIZER;CN="Brian":MAILTO:bmarston@wustl.edu
URL;VALUE=URI:https://anesthesiology.wustl.edu/events/event/grand-rounds-vi
 rtual/
END:VEVENT
BEGIN:VTIMEZONE
TZID:America/Chicago
BEGIN:DAYLIGHT
TZOFFSETFROM:-0600
TZOFFSETTO:-0500
DTSTART:20200308T080000
TZNAME:CDT
END:DAYLIGHT
END:VTIMEZONE
END:VCALENDAR
