BEGIN:VCALENDAR
VERSION:2.0
PRODID:-//Anesthesiology//NONSGML Events//EN
CALSCALE:GREGORIAN
X-ORIGINAL-URL:https://anesthesiology.wustl.edu/events/
X-WR-CALDESC:Anesthesiology - Events
BEGIN:VEVENT
UID:20200828T0658Z-1598597907.4968-EO-6575-1@172.23.128.19
STATUS:CONFIRMED
DTSTAMP:20260421T201424Z
CREATED:20200811T204550Z
LAST-MODIFIED:20200811T204550Z
DTSTART;TZID=America/Chicago:20200617T064500
DTEND;TZID=America/Chicago:20200617T074500
SUMMARY: Grand Rounds
DESCRIPTION: Anesthesiology Grand Rounds M&M Presented by: Drs. Matthew Goo
 dmanson\, Andrew Pauszek\, and Danish Jaffer Moderators: Drs. R. Benzinger\
 , S. Gregory\, K. Smith
X-ALT-DESC;FMTTYPE=text/html: <h4 style="text-align: center\;">Anesthesiolo
 gy Grand Rounds</h4><p style="text-align: center\;">M&M</p><p style="text-a
 lign: center\;">Presented by:<br /><span>Drs. Matthew Goodmanson\, Andrew P
 auszek\, and Danish Jaffer</span><br /><span></span></p><p style="text-alig
 n: center\;"><span>Moderators:<br />Drs. R. Benzinger\, S. Gregory\, K. Smi
 th</span></p>
CATEGORIES:All,Grand Rounds
LOCATION:Zoom Webinar
GEO:0.000000;0.000000
ORGANIZER;CN="Brian":MAILTO:bmarston@wustl.edu
URL;VALUE=URI:https://anesthesiology.wustl.edu/events/event/grand-rounds/
END:VEVENT
BEGIN:VTIMEZONE
TZID:America/Chicago
BEGIN:DAYLIGHT
TZOFFSETFROM:-0600
TZOFFSETTO:-0500
DTSTART:20200308T080000
TZNAME:CDT
END:DAYLIGHT
END:VTIMEZONE
END:VCALENDAR
