BEGIN:VCALENDAR
VERSION:2.0
PRODID:-//Anesthesiology//NONSGML Events//EN
CALSCALE:GREGORIAN
X-ORIGINAL-URL:https://anesthesiology.wustl.edu/events/
X-WR-CALDESC:Anesthesiology - Events
BEGIN:VEVENT
UID:20220218T0420Z-1645158027.3074-EO-23063-1@172.23.128.18
STATUS:CONFIRMED
DTSTAMP:20260422T155418Z
CREATED:20220216T192025Z
LAST-MODIFIED:20220216T192025Z
DTSTART;TZID=America/Chicago:20220320T100000
DTEND;TZID=America/Chicago:20220320T120000
SUMMARY: March Wellness Walk
DESCRIPTION: March 20\, 10am Shaw Nature Reserve Come see spring begin to b
 loom at Shaw Nature reserve! A true hidden gem in St Louis!
X-ALT-DESC;FMTTYPE=text/html: <p>March 20\, 10am</p><p>Shaw Nature Reserve<
 /p><p>Come see spring begin to bloom at Shaw Nature reserve! A true hidden 
 gem in St Louis!</p>
CATEGORIES:Health &amp\; Wellness
ORGANIZER;CN="Kelsey":MAILTO:karends@wustl.edu
URL;VALUE=URI:https://anesthesiology.wustl.edu/events/event/march-wellness-
 walk/
END:VEVENT
BEGIN:VTIMEZONE
TZID:America/Chicago
BEGIN:DAYLIGHT
TZOFFSETFROM:-0600
TZOFFSETTO:-0500
DTSTART:20220313T080000
TZNAME:CDT
END:DAYLIGHT
END:VTIMEZONE
END:VCALENDAR
