BEGIN:VCALENDAR
VERSION:2.0
PRODID:-//Anesthesiology//NONSGML Events//EN
CALSCALE:GREGORIAN
X-ORIGINAL-URL:https://anesthesiology.wustl.edu/events/
X-WR-CALDESC:Anesthesiology - Events
BEGIN:VEVENT
UID:20220808T2149Z-1659995390.8007-EO-30175-1@172.23.128.19
STATUS:CONFIRMED
DTSTAMP:20260421T161222Z
CREATED:20220808T193826Z
LAST-MODIFIED:20220921T165457Z
DTSTART;TZID=America/Chicago:20220928T064500
DTEND;TZID=America/Chicago:20220928T074500
SUMMARY: Grand Rounds: The Mental Health Epidemic: Meeting the Demand
DESCRIPTION: “The Mental Health Epidemic: Meeting the Demand” Featured Spea
 ker Eric Lenze\, MD Wallace Renard Professor of Psychiatry Department Head 
 Washington University School of Medicine For the Zoom link\, please contact
  Maureen Arends (arendsm@wustl.edu).
X-ALT-DESC;FMTTYPE=text/html: <p class="lead" style="text-align: left\;">"T
 he Mental Health Epidemic: Meeting the Demand"</p><h4 style="text-align: le
 ft\;">Featured Speaker</h4><p style="text-align: left\;"><strong>Eric Lenze
 \, MD</strong><br />Wallace Renard Professor of Psychiatry<br />Department 
 Head<br />Washington University School of Medicine</p><hr /><p class="discl
 aimer" style="text-align: left\;">For the Zoom link\, please contact Mauree
 n Arends (<a href="mailto:arendsm@wustl.edu">arendsm@wustl.edu</a>).</p>
CATEGORIES:Featured Events,Grand Rounds
ORGANIZER;CN="Admin":MAILTO:wordpress@wustl.edu
URL;VALUE=URI:https://anesthesiology.wustl.edu/events/event/mentalhealthepi
 demic/
END:VEVENT
BEGIN:VTIMEZONE
TZID:America/Chicago
BEGIN:DAYLIGHT
TZOFFSETFROM:-0600
TZOFFSETTO:-0500
DTSTART:20220313T080000
TZNAME:CDT
END:DAYLIGHT
END:VTIMEZONE
END:VCALENDAR
