BEGIN:VCALENDAR
VERSION:2.0
PRODID:-//Anesthesiology//NONSGML Events//EN
CALSCALE:GREGORIAN
X-ORIGINAL-URL:https://anesthesiology.wustl.edu/events/
X-WR-CALDESC:Anesthesiology - Events
BEGIN:VEVENT
UID:20240110T0355Z-1704858900.7619-EO-43523-1@172.23.128.18
STATUS:CONFIRMED
DTSTAMP:20260424T121233Z
CREATED:20240109T144440Z
LAST-MODIFIED:20240109T145737Z
DTSTART;TZID=America/Chicago:20240116T163000
DTEND;TZID=America/Chicago:20240116T180000
SUMMARY: 2024 MLK\, Jr. Week: Film Viewing
DESCRIPTION: Tuesday\, January 16 | 4:30 pm – 6 pm Film Viewing » “Join us 
 for an Evening of Insight and Reflection” In grade school\, we often study 
 Dr. King’s iconic “I Have a Dream” speech\, but his impact extends far beyo
 nd in his fight against racial inequalities. In the later years of his life
 \, Dr. […]
X-ALT-DESC;FMTTYPE=text/html: <h5 class="wp-block-heading">Tuesday\, Januar
 y 16 | 4:30 pm – 6 pm<br /><a href="https://diversity.med.wustl.edu/events/
 calendar/2024-mlk-jr-week-film-viewing-co-sponsored-by-the-association-for-
 black-biomedical-graduate-students-black-postdoc-association/">Film Viewing
  »</a></h5><p>“Join us for an Evening of Insight and Reflection”</p><p>In g
 rade school\, we often study Dr. King’s iconic “I Have a Dream” speech\, bu
 t his impact extends far beyond in his fight against racial inequalities. I
 n the later years of his life\, Dr. King’s ideology evolved into something 
 considered quite radical. He vehemently opposed the Vietnam War\, spearhead
 ed the Poor People’s Campaign\, and championed the cause of guaranteed inco
 me.</p><p>Join the Association of Black Biomedical Graduate Students\, the 
 Black Postdoc Association\, and ODEI for an insightful screening of the doc
 umentary <a href="https://www.imdb.com/title/tt7689960/" data-type="link" d
 ata-id="https://www.imdb.com/title/tt7689960/">“King in the Wilderness</a>.
 ” This documentary delves into the lesser-explored chapters of Dr. King’s l
 ife\, shedding light on his bold stances and revolutionary ideas.</p><p>Fol
 lowing the screening\, engage in a thought-provoking discussion on the redu
 ction of Dr. King’s legacy to the civil rights movement. Explore the releva
 nce of his ideologies to today’s social issues and discover how we can acti
 vely contribute to realizing the world he envisioned. This event aims to sh
 ift the spotlight to Dr. King’s life after the Civil Rights Act of 1964\, e
 mphasizing the totality of his enduring legacy.”</p>
CATEGORIES:Climate &amp\; Culture,Featured Events,School of Medicine
ORGANIZER;CN="Admin":MAILTO:wordpress@wustl.edu
URL;VALUE=URI:https://anesthesiology.wustl.edu/events/event/mlk-week-film-v
 iewing/
END:VEVENT
BEGIN:VTIMEZONE
TZID:America/Chicago
BEGIN:STANDARD
TZOFFSETFROM:-0500
TZOFFSETTO:-0600
DTSTART:20231105T070000
TZNAME:CST
END:STANDARD
END:VTIMEZONE
END:VCALENDAR
