BEGIN:VCALENDAR
VERSION:2.0
PRODID:-//Anesthesiology//NONSGML Events//EN
CALSCALE:GREGORIAN
X-ORIGINAL-URL:https://anesthesiology.wustl.edu/events/
X-WR-CALDESC:Anesthesiology - Events
BEGIN:VEVENT
UID:20230830T1952Z-1693425164.2712-EO-41200-1@172.23.128.18
STATUS:CONFIRMED
DTSTAMP:20260424T121148Z
CREATED:20230830T184044Z
LAST-MODIFIED:20230831T211330Z
DTSTART;TZID=America/Chicago:20230912T160000
DTEND;TZID=America/Chicago:20230912T170000
SUMMARY: Research Seminar: “Overlapping neuronal mechanisms of sleep and se
 dation and why do we sleep?”
DESCRIPTION: “Overlapping neuronal mechanisms of sleep and sedation and why
  do we sleep?” Featured Speaker Nick Franks\, FRS — Hosted by Alex Evers\, 
 MD Professor of Biophysics and Anaesthetics Imperial College London Hosted 
 in EPNEC Seminar Room A. Please contact Amber Spies (spiesa@wustl.edu) for 
 the Zoom link
X-ALT-DESC;FMTTYPE=text/html: <p class="lead" style="text-align: left\;">"O
 verlapping neuronal mechanisms of sleep and sedation and why do we sleep?"<
 /p><h4 style="text-align: left\;">Featured Speaker</h4><p style="text-align
 : left\;"><strong>Nick Franks\, FRS </strong>— <em>Hosted by Alex Evers\, M
 D<strong><br /></strong></em>Professor of Biophysics and Anaesthetics<br />
 Imperial College London</p><hr /><p class="disclaimer" style="text-align: l
 eft\;">Hosted in EPNEC Seminar Room A. Please contact Amber Spies (<a href=
 "mailto:spiesa@wustl.edu">spiesa@wustl.edu</a>) for the Zoom link</p>
CATEGORIES:Research
ORGANIZER;CN="Admin":MAILTO:wordpress@wustl.edu
URL;VALUE=URI:https://anesthesiology.wustl.edu/events/event/nick-franks-202
 3/
END:VEVENT
BEGIN:VTIMEZONE
TZID:America/Chicago
BEGIN:DAYLIGHT
TZOFFSETFROM:-0600
TZOFFSETTO:-0500
DTSTART:20230312T080000
TZNAME:CDT
END:DAYLIGHT
END:VTIMEZONE
END:VCALENDAR
