BEGIN:VCALENDAR
VERSION:2.0
PRODID:-//Anesthesiology//NONSGML Events//EN
CALSCALE:GREGORIAN
X-ORIGINAL-URL:https://anesthesiology.wustl.edu/events/
X-WR-CALDESC:Anesthesiology - Events
BEGIN:VEVENT
UID:20231229T0506Z-1703826404.6117-EO-43472-1@172.23.128.18
STATUS:CONFIRMED
DTSTAMP:20260424T121233Z
CREATED:20231228T205153Z
LAST-MODIFIED:20231228T210213Z
DTSTART;TZID=America/Chicago:20240103T064500
DTEND;TZID=America/Chicago:20240103T074500
SUMMARY: No Grand Rounds
DESCRIPTION: No Grand Rounds on Jan. 3\, 2024.
X-ALT-DESC;FMTTYPE=text/html: <p>No Grand Rounds on Jan. 3\, 2024.</p>
CATEGORIES:Grand Rounds
ORGANIZER;CN="Admin":MAILTO:wordpress@wustl.edu
URL;VALUE=URI:https://anesthesiology.wustl.edu/events/event/no-grand-rounds
 -2/
END:VEVENT
BEGIN:VTIMEZONE
TZID:America/Chicago
BEGIN:STANDARD
TZOFFSETFROM:-0500
TZOFFSETTO:-0600
DTSTART:20231105T070000
TZNAME:CST
END:STANDARD
END:VTIMEZONE
END:VCALENDAR
