BEGIN:VCALENDAR
VERSION:2.0
PRODID:-//Anesthesiology//NONSGML Events//EN
CALSCALE:GREGORIAN
X-ORIGINAL-URL:https://anesthesiology.wustl.edu/events/
X-WR-CALDESC:Anesthesiology - Events
BEGIN:VEVENT
UID:20250723T1437Z-1753281465.4859-EO-59894-1@10.73.6.59
STATUS:CONFIRMED
DTSTAMP:20260424T220252Z
CREATED:20251117T145439Z
LAST-MODIFIED:20251117T145439Z
DTSTART;TZID=America/Chicago:20251217T064500
DTEND;TZID=America/Chicago:20251217T074500
SUMMARY: No Grand Rounds
DESCRIPTION: No Grand Rounds on Wednesday\, December 17.
X-ALT-DESC;FMTTYPE=text/html: <p>No Grand Rounds on Wednesday\, December 17
 .</p><div class="sharedaddy sd-sharing-enabled"></div>
CATEGORIES:Grand Rounds
ORGANIZER;CN="Admin":MAILTO:wordpress@wustl.edu
URL;VALUE=URI:https://anesthesiology.wustl.edu/events/event/no-grand-rounds
 -49/
END:VEVENT
BEGIN:VTIMEZONE
TZID:America/Chicago
BEGIN:STANDARD
TZOFFSETFROM:-0500
TZOFFSETTO:-0600
DTSTART:20251102T070000
TZNAME:CST
END:STANDARD
END:VTIMEZONE
END:VCALENDAR
