BEGIN:VCALENDAR
VERSION:2.0
PRODID:-//Anesthesiology//NONSGML Events//EN
CALSCALE:GREGORIAN
X-ORIGINAL-URL:https://anesthesiology.wustl.edu/events/
X-WR-CALDESC:Anesthesiology - Events
BEGIN:VEVENT
UID:20221029T0045Z-1667004344.7165-EO-34058-1@172.23.128.19
STATUS:CONFIRMED
DTSTAMP:20260424T121205Z
CREATED:20221028T135449Z
LAST-MODIFIED:20230228T202331Z
DTSTART;TZID=America/Chicago:20230225T073000
DTEND;TZID=America/Chicago:20230225T163000
SUMMARY: Pediatric Anesthesia Fellows Bootcamp
DESCRIPTION: The Department of Anesthesiology at Washington University Scho
 ol of Medicine in St. Louis will host an inaugural Pediatric Anesthesia Fel
 lows Bootcamp at St. Louis Children’s Hospital for a one-day training event
 . This unique bootcamp represents a collaborative effort among fellows and 
 experienced faculty across the nation to provide intermediate-level knowled
 ge and skills for mid-year pediatric […]
X-ALT-DESC;FMTTYPE=text/html: <p class="is-style-default">The Department of
  Anesthesiology at Washington University School of Medicine in St. Louis wi
 ll host an inaugural Pediatric Anesthesia Fellows Bootcamp at St. Louis Chi
 ldren’s Hospital for a one-day training event.</p><p class="is-style-defaul
 t">This unique bootcamp represents a collaborative effort among fellows and
  experienced faculty across the nation to provide intermediate-level knowle
 dge and skills for mid-year pediatric anesthesia fellows. The following top
 ics will be included:</p><ul><li>Supervisory roles and junior trainee educa
 tion</li><li>Communication and multidisciplinary team management</li><li>In
 terdependent intraoperative team management</li><li>Consent and assent and 
 how to know the difference</li><li>Point-of-care ultrasound: TTE/TEE and be
 yond</li></ul>
CATEGORIES:Education,Featured Events
ORGANIZER;CN="Admin":MAILTO:wordpress@wustl.edu
URL;VALUE=URI:https://anesthesiology.wustl.edu/events/event/pediatric-anest
 hesia-fellows-bootcamp/
END:VEVENT
BEGIN:VTIMEZONE
TZID:America/Chicago
BEGIN:STANDARD
TZOFFSETFROM:-0500
TZOFFSETTO:-0600
DTSTART:20221106T070000
TZNAME:CST
END:STANDARD
END:VTIMEZONE
END:VCALENDAR
