BEGIN:VCALENDAR
VERSION:2.0
PRODID:-//Anesthesiology//NONSGML Events//EN
CALSCALE:GREGORIAN
X-ORIGINAL-URL:https://anesthesiology.wustl.edu/events/
X-WR-CALDESC:Anesthesiology - Events
BEGIN:VEVENT
UID:20260311T1923Z-1773257006.4644-EO-63850-1@10.73.6.59
STATUS:CONFIRMED
DTSTAMP:20260424T121123Z
CREATED:20260311T184441Z
LAST-MODIFIED:20260423T131653Z
DTSTART;TZID=America/Chicago:20260428T110000
DTEND;TZID=America/Chicago:20260428T120000
SUMMARY: Research Seminar: “Why We Haven’t Found the Gene(s) for Postsurgic
 al Pain — And What That Tells Us”
DESCRIPTION: “Why We Haven’t Found the Gene(s) for Postsurgical Pain — And 
 What That Tells Us” Featured Speaker Stephan Frangakis\, MD\, PhD Assistant
  Professor of Anesthesiology Assistant Professor of Human Genetics and Prog
 ram Assistant Anesthesiology University of Michigan Medical School Hosted i
 n the CSRB-NTA 401 Conference Room
X-ALT-DESC;FMTTYPE=text/html: <p class="lead" style="text-align: left\;">"W
 hy We Haven't Found the Gene(s) for Postsurgical Pain — And What That Tells
  Us"</p><h4 style="text-align: left\;">Featured Speaker</h4><p style="text-
 align: left\;"><strong>Stephan Frangakis\, MD\, PhD</strong><br /></strong>
 Assistant Professor of Anesthesiology<br />Assistant Professor of Human Gen
 etics and Program Assistant Anesthesiology<br />University of Michigan Medi
 cal School</p><hr /><p class="disclaimer" style="text-align: left\;">Hosted
  in the CSRB-NTA 401 Conference Room</p>
CATEGORIES:Featured Events,Research
LOCATION:CSRB-NTA 401
GEO:0.000000;0.000000
ORGANIZER;CN="Charlotte":MAILTO:cstout@wustl.edu
URL;VALUE=URI:https://anesthesiology.wustl.edu/events/event/research-semina
 r-frangakis-stephan/
END:VEVENT
BEGIN:VTIMEZONE
TZID:America/Chicago
BEGIN:DAYLIGHT
TZOFFSETFROM:-0600
TZOFFSETTO:-0500
DTSTART:20260308T080000
TZNAME:CDT
END:DAYLIGHT
END:VTIMEZONE
END:VCALENDAR
