BEGIN:VCALENDAR
VERSION:2.0
PRODID:-//Anesthesiology//NONSGML Events//EN
CALSCALE:GREGORIAN
X-ORIGINAL-URL:https://anesthesiology.wustl.edu/events/
X-WR-CALDESC:Anesthesiology - Events
BEGIN:VEVENT
UID:20260121T2130Z-1769031055.3543-EO-63294-1@10.73.0.7
STATUS:CONFIRMED
DTSTAMP:20260421T132427Z
CREATED:20260121T194811Z
LAST-MODIFIED:20260218T141407Z
DTSTART;TZID=America/Chicago:20260418T180000
DTEND;TZID=America/Chicago:20260418T220000
SUMMARY: Department Trivia Night
DESCRIPTION: Think you’re smarter than your coworkers? Come prove it! Join 
 us for a night of friendly competition\, laughs\, and bragging rights at ou
 r first-ever department Trivia Night! We’ll have raffle prizes benefiting o
 ur ASSURE Fellowship\, a trophy for the winning table\, and other fun surpr
 ises throughout the night! Saturday\, April 18 | 6-10 p.m. South […]
X-ALT-DESC;FMTTYPE=text/html: <p class="lead" data-start="429" data-end="72
 1">Think you’re smarter than your coworkers? Come prove it!</p><p data-star
 t="429" data-end="721">Join us for a night of friendly competition\, laughs
 \, and bragging rights at our first-ever department Trivia Night! We’ll hav
 e raffle prizes benefiting our ASSURE Fellowship\, a trophy for the winning
  table\, and other fun surprises throughout the night!</p><p style="text-al
 ign: left\;"><strong>Saturday\, April 18 | 6-10 p.m.<br /></strong>South Br
 oadway Athletic Club<br />2301 S 7th St\, St. Louis\, Missouri 63104 (<a hr
 ef="https://www.google.com/maps/place/South+Broadway+Athletic+Club/@38.6042
 862\,-90.2036219\,17.09z/data=!4m6!3m5!1s0x87d8b3a2723f9617:0xabe0a98e8822a
 dd6!8m2!3d38.6040279!4d-90.2052049!16s%2Fg%2F1tdbrdpj?entry=ttu&g_ep=EgoyMD
 I2MDIxMS4wIKXMDSoASAFQAw%3D%3D" target="_blank" rel="noopener">directions</
 a>)</p><div class="leaflet-popup-tip-container"></div><hr /><h4>RSVP</h4><d
 iv class="callout"><p data-start="228" data-end="399">Only one person shoul
 d register per group. If you are part of a team\, please confirm with your 
 team captain before submitting an RSVP to avoid duplicate registrations.</p
 ></div><p class="disclaimer">Seating is limited and tables are first come\,
  first served. Once event capacity is reached\, a waitlist will be availabl
 e.</p><p>[formidable id="182"]</p><hr /><h5>FAQs:</h5><p><strong>How many p
 eople can I register for at my table?<br /></strong>Designate a team captai
 n\, who will register your group as:</p><ul><li>A full table of 8</li><li>A
  half table of 4</li><li>An individual or pair</li></ul><p><em>Note: The te
 am captain will receive all email communications moving forward.</em></p><p
 ><strong>What happens if I don’t sign up as a full table?<br /></strong>If 
 you sign up as an individual\, pair\, or half table\, we’ll match you with 
 other participants to form a team—so everyone gets to play.</p><p><strong>C
 an I bring a guest?<br /></strong>Yes! Each department member may invite on
 e guest\, age 21 or older.</p><p><strong>Will the trivia include anesthesia
 -related questions?<br /></strong>No. This will be general trivia\, no anes
 thesia expertise required.</p><p><strong>Can I purchase food and drinks at 
 the venue?<br /></strong>Please plan to bring your own food. No outside alc
 ohol is allowed inside the venue\, but a cash bar will be available.</p><p>
 <strong>What else can we expect at Trivia Night?</strong><br />Trivia isn’t
  the only way to win! We’ll also be handing out prizes for crowd-favorites 
 like <i>Best Team Name</i> and <i>Best Snacks</i>\, plus a few other fun su
 rprises along the way. Additionally\, there will be a few small raffle item
 s\, and all proceeds will benefit the <a href="https://assure.wustl.edu/">A
 SSURE Fellowship Program</a>.</p><p><strong>Who’s running the show?<br /></
 strong>Your emcees for the evening will be Erin Herrera and Stephen Gregory
 .</p><p><b>When do we choose our team name?<br /></b>Team names will be cho
 sen at the event—no need to decide on or submit a team name in advance.<b><
 br /></b></p><p> </p>
CATEGORIES:Featured Events,Health &amp\; Wellness
LOCATION:South Broadway Athletic Club
GEO:38.604158;-90.205193
ORGANIZER;CN="Admin":MAILTO:wordpress@wustl.edu
URL;VALUE=URI:https://anesthesiology.wustl.edu/events/event/trivia-night/
ATTACH;FMTTYPE=image/png:https://anesthesiology.wustl.edu/app/uploads/2026/01/Trivia-Night-Email-Header.png
END:VEVENT
BEGIN:VTIMEZONE
TZID:America/Chicago
BEGIN:DAYLIGHT
TZOFFSETFROM:-0600
TZOFFSETTO:-0500
DTSTART:20260308T080000
TZNAME:CDT
END:DAYLIGHT
END:VTIMEZONE
END:VCALENDAR
