BEGIN:VCALENDAR
VERSION:2.0
PRODID:-//Anesthesiology//NONSGML Events//EN
CALSCALE:GREGORIAN
X-ORIGINAL-URL:https://anesthesiology.wustl.edu/events/
X-WR-CALDESC:Anesthesiology - Events
BEGIN:VEVENT
UID:20250812T2137Z-1755034665.0114-EO-60359-1@10.73.6.59
STATUS:CONFIRMED
DTSTAMP:20260424T001619Z
CREATED:20251203T193445Z
LAST-MODIFIED:20251203T193445Z
DTSTART;TZID=America/Chicago:20260110T090000
DTEND;TZID=America/Chicago:20260110T120000
SUMMARY: ACLS Class — Jan. 10\, 2026
DESCRIPTION: The Department of Anesthesiology offers Advanced Cardiovascula
 r Life Support (ACLS) classes on select Saturdays in 2026. These classes ar
 e exclusive to department members and provide comprehensive training in man
 aging cardiopulmonary arrest and other cardiovascular emergencies.  To view
  additional class dates or learn more\, please visit the ACLS Class Registr
 ation website. January Registration Date: January 10\, […]
X-ALT-DESC;FMTTYPE=text/html: <p>The Department of Anesthesiology offers Ad
 vanced Cardiovascular Life Support (ACLS) classes on select Saturdays in 20
 26. These classes are exclusive to department members and provide comprehen
 sive training in managing cardiopulmonary arrest and other cardiovascular e
 mergencies.  To view additional class dates or learn more\, please visit th
 e <a href="https://anesthesiology.wustl.edu/acls-class-registration/">ACLS 
 Class Registration website</a>.</p><hr /><h4 style="text-align: left\;">Jan
 uary Registration</h4><p><strong>Date:</strong> January 10\, 2026</p><p><st
 rong>Time:</strong> 9:00 a.m. – 12:00 p.m.</p><p><strong>Location:</strong>
  3rd Floor\, Peters Conference Room</p><p><em>Please note: There is a minim
 um of 6 students and a maximum of 8 students per class.</em></p><p>[formida
 ble id="178"]</p>
CATEGORIES:ACLS,Education
ORGANIZER;CN="Admin":MAILTO:wordpress@wustl.edu
URL;VALUE=URI:https://anesthesiology.wustl.edu/events/event/acls-class-jan-
 10-2026/
END:VEVENT
BEGIN:VTIMEZONE
TZID:America/Chicago
BEGIN:STANDARD
TZOFFSETFROM:-0500
TZOFFSETTO:-0600
DTSTART:20251102T070000
TZNAME:CST
END:STANDARD
END:VTIMEZONE
END:VCALENDAR
