BEGIN:VCALENDAR
VERSION:2.0
PRODID:-//Anesthesiology//NONSGML Events//EN
CALSCALE:GREGORIAN
X-ORIGINAL-URL:https://anesthesiology.wustl.edu/events/
X-WR-CALDESC:Anesthesiology - Events
BEGIN:VEVENT
UID:20250812T2041Z-1755031291.0711-EO-60353-1@10.73.6.59
STATUS:CONFIRMED
DTSTAMP:20260424T121153Z
CREATED:20250812T204124Z
LAST-MODIFIED:20250812T204124Z
DTSTART;TZID=America/Chicago:20251122T090000
DTEND;TZID=America/Chicago:20251122T120000
SUMMARY: ACLS Class — Nov. 22\, 2025
DESCRIPTION: The Department of Anesthesiology offers Advanced Cardiovascula
 r Life Support (ACLS) classes on select Saturdays in 2025. These classes ar
 e exclusive to department members and provide comprehensive training in man
 aging cardiopulmonary arrest and other cardiovascular emergencies.  To view
  additional class dates or learn more\, please visit the ACLS Class Registr
 ation website. November Registration Date: November 22\, […]
X-ALT-DESC;FMTTYPE=text/html: <p>The Department of Anesthesiology offers Ad
 vanced Cardiovascular Life Support (ACLS) classes on select Saturdays in 20
 25. These classes are exclusive to department members and provide comprehen
 sive training in managing cardiopulmonary arrest and other cardiovascular e
 mergencies.  To view additional class dates or learn more\, please visit th
 e <a href="https://anesthesiology.wustl.edu/acls-class-registration/">ACLS 
 Class Registration website</a>.</p><hr /><h4 style="text-align: left\;">Nov
 ember Registration</h4><p><strong>Date:</strong> November 22\, 2025</p><p><
 strong>Time:</strong> 9:00 a.m. – 12:00 p.m.</p><p><strong>Location:</stron
 g> 3rd Floor\, Peters Conference Room</p><p><em>Please note: There is a min
 imum of 6 students and a maximum of 8 students per class.</em></p><p>[formi
 dable id="171"]</p>
CATEGORIES:ACLS,Education
ORGANIZER;CN="Admin":MAILTO:wordpress@wustl.edu
URL;VALUE=URI:https://anesthesiology.wustl.edu/events/event/acls-class-nov-
 22-2025/
END:VEVENT
BEGIN:VTIMEZONE
TZID:America/Chicago
BEGIN:STANDARD
TZOFFSETFROM:-0500
TZOFFSETTO:-0600
DTSTART:20251102T070000
TZNAME:CST
END:STANDARD
END:VTIMEZONE
END:VCALENDAR
