BEGIN:VCALENDAR
VERSION:2.0
PRODID:-//Anesthesiology//NONSGML Events//EN
CALSCALE:GREGORIAN
X-ORIGINAL-URL:https://anesthesiology.wustl.edu/events/
X-WR-CALDESC:Anesthesiology - Events
BEGIN:VEVENT
UID:20250812T2041Z-1755031291.0555-EO-60338-1@10.73.6.59
STATUS:CONFIRMED
DTSTAMP:20260424T121102Z
CREATED:20250812T202521Z
LAST-MODIFIED:20250812T202638Z
DTSTART;TZID=America/Chicago:20250920T090000
DTEND;TZID=America/Chicago:20250920T120000
SUMMARY: ACLS Class — Sept. 20\, 2025
DESCRIPTION: The Department of Anesthesiology offers Advanced Cardiovascula
 r Life Support (ACLS) classes on select Saturdays in 2025. These classes ar
 e exclusive to department members and provide comprehensive training in man
 aging cardiopulmonary arrest and other cardiovascular emergencies.  To view
  additional class dates or learn more\, please visit the ACLS Class Registr
 ation website. September Registration Date: September 20\, […]
X-ALT-DESC;FMTTYPE=text/html: <p>The Department of Anesthesiology offers Ad
 vanced Cardiovascular Life Support (ACLS) classes on select Saturdays in 20
 25. These classes are exclusive to department members and provide comprehen
 sive training in managing cardiopulmonary arrest and other cardiovascular e
 mergencies.  To view additional class dates or learn more\, please visit th
 e <a href="https://anesthesiology.wustl.edu/acls-class-registration/">ACLS 
 Class Registration website</a>.</p><hr /><h4 style="text-align: left\;">Sep
 tember Registration</h4><p><strong>Date:</strong> September 20\, 2025</p><p
 ><strong>Time:</strong> 9:00 a.m. – 12:00 p.m.</p><p><strong>Location:</str
 ong> 3rd Floor\, Peters Conference Room</p><p><em>Please note: There is a m
 inimum of 6 students and a maximum of 8 students per class.</em></p><p>[for
 midable id="169"]</p>
CATEGORIES:ACLS,Education
ORGANIZER;CN="Admin":MAILTO:wordpress@wustl.edu
URL;VALUE=URI:https://anesthesiology.wustl.edu/events/event/acls-class-sept
 -20-2025/
END:VEVENT
BEGIN:VTIMEZONE
TZID:America/Chicago
BEGIN:DAYLIGHT
TZOFFSETFROM:-0600
TZOFFSETTO:-0500
DTSTART:20250309T080000
TZNAME:CDT
END:DAYLIGHT
END:VTIMEZONE
END:VCALENDAR
