BEGIN:VCALENDAR
VERSION:2.0
PRODID:-//Anesthesiology//NONSGML Events//EN
CALSCALE:GREGORIAN
X-ORIGINAL-URL:https://anesthesiology.wustl.edu/events/
X-WR-CALDESC:Anesthesiology - Events
BEGIN:VEVENT
UID:20230314T0023Z-1678753409.3965-EO-38784-1@172.23.128.18
STATUS:CONFIRMED
DTSTAMP:20260423T222032Z
CREATED:20230313T190858Z
LAST-MODIFIED:20230313T190858Z
DTSTART;TZID=America/Chicago:20230422T180000
DTEND;TZID=America/Chicago:20230422T220000
SUMMARY: Department Soiree
DESCRIPTION: Saturday\, April 22\, 2023 6:00 – 10:00 p.m. Palladium St. Lou
 is The Department of Anesthesiology cordially invites department employees 
 and a guest to join us for an unforgettable evening of music\, hors d’oeuvr
 es\, and cocktails. Please direct any questions to Kristy Meyer at kgutreut
 er@wustl.edu. This special event will also raise funds for the department’s
  Anesthesiology Summer Research Fellowship […]
X-ALT-DESC;FMTTYPE=text/html: <p class="is-style-lead">Saturday\, April 22\
 , 2023<br />6:00 – 10:00 p.m.<br /><a href="https://palladium-stl.com/">Pal
 ladium St. </a><a href="https://palladium-stl.com/" target="_blank" rel="no
 referrer noopener">Louis</a></p><p class="is-style-default">The Department 
 of Anesthesiology cordially invites department employees and a guest to joi
 n us for an unforgettable evening of music\, hors d’oeuvres\, and cocktails
 . Please direct any questions to Kristy Meyer at <a href="mailto:kgutreuter
 @wustl.edu">kgutreuter@wustl.edu</a>.</p><p class="is-style-default">This s
 pecial event will also raise funds for the department’s <strong>Anesthesiol
 ogy Summer Research Fellowship (ASSURE) program</strong>.</p><p class="is-s
 tyle-default">Admission for department employees is complimentary\, however
 \, if you’d like to invite a guest\, a $50 admission fee will be applicable
 . Guests must be 21+ years old. Semi-formal or cocktail attire is preferred
 .</p><p class="is-style-default"><strong>Please RSVP by Monday\, April 10\,
  2023.</strong></p><div class="is-layout-flex wp-block-buttons"><div class=
 "wp-block-button"><a class="wp-block-button__link wp-element-button" href="
 https://anesthesiology.wustl.edu/department-soiree/" target="_blank" rel="n
 oreferrer noopener">Learn more & RSVP</a></div></div><p class="is-style-dis
 claimer">Admission fees will not benefit the ASSURE Fellowship program. The
 re will be opportunities to learn more about the program and willing donati
 ons will be accepted at the event.</p>
CATEGORIES:Featured Events,Research
ORGANIZER;CN="Admin":MAILTO:wordpress@wustl.edu
URL;VALUE=URI:https://anesthesiology.wustl.edu/events/event/department-soir
 ee/
END:VEVENT
BEGIN:VTIMEZONE
TZID:America/Chicago
BEGIN:DAYLIGHT
TZOFFSETFROM:-0600
TZOFFSETTO:-0500
DTSTART:20230312T080000
TZNAME:CDT
END:DAYLIGHT
END:VTIMEZONE
END:VCALENDAR
